BEGIN:VCALENDAR
VERSION:2.0
PRODID:-//CSU Cyber Camp - ECPv6.15.20//NONSGML v1.0//EN
CALSCALE:GREGORIAN
METHOD:PUBLISH
X-WR-CALNAME:CSU Cyber Camp
X-ORIGINAL-URL:https://csucybercamp.cs.colostate.edu
X-WR-CALDESC:Events for CSU Cyber Camp
REFRESH-INTERVAL;VALUE=DURATION:PT1H
X-Robots-Tag:noindex
X-PUBLISHED-TTL:PT1H
BEGIN:VTIMEZONE
TZID:UTC
BEGIN:STANDARD
TZOFFSETFROM:+0000
TZOFFSETTO:+0000
TZNAME:UTC
DTSTART:20210101T000000
END:STANDARD
END:VTIMEZONE
BEGIN:VEVENT
DTSTART;TZID=UTC:20220801T093000
DTEND;TZID=UTC:20220805T153000
DTSTAMP:20260425T112418
CREATED:20220326T214712Z
LAST-MODIFIED:20220517T155237Z
UID:102-1659346200-1659713400@csucybercamp.cs.colostate.edu
SUMMARY:CSU CyberCamp
DESCRIPTION:
URL:https://csucybercamp.cs.colostate.edu/event/csu-cybercamp/
LOCATION:CSU CSB\, 456 University Ave #444\, Fort Collins\, CO\, 80521\, United States
CATEGORIES:camp
END:VEVENT
END:VCALENDAR